BEGIN:VCALENDAR
VERSION:2.0
METHOD:PUBLISH
PRODID::-//Obvius//NONSGML ICal//DA
BEGIN:VEVENT
UID:2301317@humanities.ku.dk
DESCRIPTION:A conference organized within the framework of the project "Th
 e Islamic literary tradition in Sub-Saharan Africa: a new academic networ
 k"\, supported by the Danish Agency for Science\, Technology and Innova
 tion.\n\nhttps://humanities.ku.dk/calendar/2016/11/sahara-east-and-west/
SUMMARY:Sahara East and West: A New Academic Approach to Literary Sources
CATEGORIES:konference
LOCATION:KUA2\, 15A-0-13
ORGANIZER:Department of Cross-Cultural and Regional Studies
DTSTART:20161130T083000Z
DTSTAMP:20161130T083000Z
DTEND:20161130T143000Z
END:VEVENT
END:VCALENDAR
