BEGIN:VCALENDAR
VERSION:2.0
METHOD:PUBLISH
PRODID::-//Obvius//NONSGML ICal//DA
BEGIN:VEVENT
UID:2490128@humanities.ku.dk
DESCRIPTION:JapanSessions: Public guest lecture by Dr Shiro Yoshioka\, Uni
 versity of Newcastle\, who is currently writing a research monograph on th
 e life and works of Miyazaki Hayao.  \n\nhttps://humanities.ku.dk/calend
 ar/2017/april/japansessions-shiro-yoshioka/
SUMMARY:Toshio&#8217\;s Movie Castle
CATEGORIES:forelæsning
LOCATION:South Campus\, room 12-0-37 
ORGANIZER:Asian Dynamics Initiative / JapanSessions
DTSTART:20170427T131500Z
DTSTAMP:20170427T131500Z
DTEND:20170427T150000Z
END:VEVENT
END:VCALENDAR
