BEGIN:VCALENDAR
VERSION:2.0
METHOD:PUBLISH
PRODID::-//Obvius//NONSGML ICal//DA
BEGIN:VEVENT
UID:2611985@humanities.ku.dk
DESCRIPTION:Buyrakn Ishkhanyan defends her PhD thesis.\n\nhttps://humaniti
 es.ku.dk/calendar/2017/august/grammar-lexicon-distinction-in-a-neurocognit
 ive-context/
SUMMARY:Grammar-Lexicon Distinction in a Neurocognitive Context
CATEGORIES:ph.d.-forsvar
LOCATION:South Campus\, lecture hall 4A-0-69
ORGANIZER:Faculty of Humanities
DTSTART:20170831T080000Z
DTSTAMP:20170831T080000Z
END:VEVENT
END:VCALENDAR
