BEGIN:VCALENDAR
VERSION:2.0
METHOD:PUBLISH
PRODID::-//Obvius//NONSGML ICal//DA
BEGIN:VEVENT
UID:2709287@humanities.ku.dk
DESCRIPTION:Jesper Steen Andersen defends his PhD thesis.\n\nhttps://human
 ities.ku.dk/calendar/2017/october/how-to-think-music-with-data/
SUMMARY:How to Think Music with Data
CATEGORIES:ph.d.-forsvar
LOCATION:South Campus\, auditorium 4A-0-68
ORGANIZER:Faculty of Humanities
DTSTART:20171027T110000Z
DTSTAMP:20171027T110000Z
END:VEVENT
END:VCALENDAR
