BEGIN:VCALENDAR
VERSION:2.0
METHOD:PUBLISH
PRODID::-//Obvius//NONSGML ICal//DA
BEGIN:VEVENT
UID:3067764@humanities.ku.dk
DESCRIPTION:Everybody is invited to an event marking the 1918 Danish-Icel
 andic Act of Union. \n\nhttps://humanities.ku.dk/calendar/2018/october/sy
 mposium-on-icelandic-independence/
SUMMARY:Symposium on Icelandic independence
CATEGORIES:symposium
LOCATION:Alf Ross Auditorium\, University of Copenhagen\, Faculty of Law\,
  room 9A-3-01\, Karen Blixens Plads 16\, 2300 Copenhagen S.
ORGANIZER:University of Copenhagen\, The Embassy of Iceland\, Dansk Island
 sk Samfund and Den Danske Historiske Forening
DTSTART:20181010T110000Z
DTSTAMP:20181010T110000Z
END:VEVENT
END:VCALENDAR
